BEGIN:VCALENDAR
VERSION:2.0
PRODID:-//Jamaica Association of Northern Alberta - JANA - ECPv6.15.11//NONSGML v1.0//EN
CALSCALE:GREGORIAN
METHOD:PUBLISH
X-WR-CALNAME:Jamaica Association of Northern Alberta - JANA
X-ORIGINAL-URL:https://www.jana.6axism.ca
X-WR-CALDESC:Events for Jamaica Association of Northern Alberta - JANA
REFRESH-INTERVAL;VALUE=DURATION:PT1H
X-Robots-Tag:noindex
X-PUBLISHED-TTL:PT1H
BEGIN:VTIMEZONE
TZID:America/Edmonton
BEGIN:DAYLIGHT
TZOFFSETFROM:-0700
TZOFFSETTO:-0600
TZNAME:MDT
DTSTART:20230312T090000
END:DAYLIGHT
BEGIN:STANDARD
TZOFFSETFROM:-0600
TZOFFSETTO:-0700
TZNAME:MST
DTSTART:20231105T080000
END:STANDARD
BEGIN:DAYLIGHT
TZOFFSETFROM:-0700
TZOFFSETTO:-0600
TZNAME:MDT
DTSTART:20240310T090000
END:DAYLIGHT
BEGIN:STANDARD
TZOFFSETFROM:-0600
TZOFFSETTO:-0700
TZNAME:MST
DTSTART:20241103T080000
END:STANDARD
BEGIN:DAYLIGHT
TZOFFSETFROM:-0700
TZOFFSETTO:-0600
TZNAME:MDT
DTSTART:20250309T090000
END:DAYLIGHT
BEGIN:STANDARD
TZOFFSETFROM:-0600
TZOFFSETTO:-0700
TZNAME:MST
DTSTART:20251102T080000
END:STANDARD
BEGIN:DAYLIGHT
TZOFFSETFROM:-0700
TZOFFSETTO:-0600
TZNAME:MDT
DTSTART:20260308T090000
END:DAYLIGHT
BEGIN:STANDARD
TZOFFSETFROM:-0600
TZOFFSETTO:-0700
TZNAME:MST
DTSTART:20261101T080000
END:STANDARD
END:VTIMEZONE
BEGIN:VEVENT
DTSTART;TZID=America/Edmonton:20250927T090000
DTEND;TZID=America/Edmonton:20250927T210000
DTSTAMP:20260420T115017
CREATED:20250309T192817Z
LAST-MODIFIED:20250309T192817Z
UID:103422-1758963600-1759006800@www.jana.6axism.ca
SUMMARY:End Of Summer BBQ
DESCRIPTION:End Of Summer BBQ\nLocation: JANA HQ\nTime: 9:00 am – 9:00 pm\nAddress: 18150 127 St\, Edmonton\, AB T6V 0N3
URL:https://www.jana.6axism.ca/event/end-of-summer-bbq/
LOCATION:JANA Centre\, 18150 127 St NW\, Edmonton\, AB\, T6V 1B1\, Canada
CATEGORIES:Headquarters,Social Event
ATTACH;FMTTYPE=image/jpeg:https://www.jana.6axism.ca/wp-content/uploads/2024/03/jana-hero-img-28.jpg
ORGANIZER;CN="Jamaican Association of Northern Alberta":MAILTO:info@jamaicaassociation.com
END:VEVENT
BEGIN:VEVENT
DTSTART;TZID=America/Edmonton:20250823T180000
DTEND;TZID=America/Edmonton:20250823T230000
DTSTAMP:20260420T115017
CREATED:20250309T190247Z
LAST-MODIFIED:20250309T190700Z
UID:103416-1755972000-1755990000@www.jana.6axism.ca
SUMMARY:Independence Party
DESCRIPTION:Independence Party\nLocation: JANA HQ\nTime: 6:00 pm – 11:00 pm\nAddress: 18150 127 St\, Edmonton\, AB T6V 0N3
URL:https://www.jana.6axism.ca/event/independence-party/
LOCATION:JANA Centre\, 18150 127 St NW\, Edmonton\, AB\, T6V 1B1\, Canada
CATEGORIES:Social Event
ATTACH;FMTTYPE=image/jpeg:https://www.jana.6axism.ca/wp-content/uploads/2024/03/jana-hero-img-29.jpg
ORGANIZER;CN="Jamaican Association of Northern Alberta":MAILTO:info@jamaicaassociation.com
END:VEVENT
BEGIN:VEVENT
DTSTART;VALUE=DATE:20250802
DTEND;VALUE=DATE:20250805
DTSTAMP:20260420T115017
CREATED:20250309T184446Z
LAST-MODIFIED:20250309T185658Z
UID:103408-1754092800-1754351999@www.jana.6axism.ca
SUMMARY:Heritage Days
DESCRIPTION:Heritage Days\nLocation: JANA HQ\nTime: 8:00 am – 5:00 pm Daily\nAddress: 18150 127 St\, Edmonton\, AB T6V 0N3
URL:https://www.jana.6axism.ca/event/heritage-days/
LOCATION:JANA Headquarters\, 10420 103 Ave NW\, Edmonton\, AB\, T5L 0J1\, Canada
CATEGORIES:Networking,Social Event
ATTACH;FMTTYPE=image/jpeg:https://www.jana.6axism.ca/wp-content/uploads/2024/03/jana-hero-img-27.jpg
ORGANIZER;CN="Jamaican Association of Northern Alberta":MAILTO:info@jamaicaassociation.com
END:VEVENT
BEGIN:VEVENT
DTSTART;TZID=America/Edmonton:20250712T080000
DTEND;TZID=America/Edmonton:20250712T170000
DTSTAMP:20260420T115017
CREATED:20250308T230930Z
LAST-MODIFIED:20250308T230930Z
UID:103406-1752307200-1752339600@www.jana.6axism.ca
SUMMARY:Caribbean Fair 2025
DESCRIPTION:Caribbean Fair 2025\nLocation: JANA HQ\nAddress: 18150 127 St\, Edmonton\, AB T6V 0N3\nWeb: Jamaicanassociation.com
URL:https://www.jana.6axism.ca/event/caribbean-fair-2025/
LOCATION:Northlands Grounds\, 7515 118 Ave NW\, Edmonton\, AB\, T5B 0J2\, Canada
CATEGORIES:Social Event
ATTACH;FMTTYPE=image/jpeg:https://www.jana.6axism.ca/wp-content/uploads/2024/03/jana-hero-img-29.jpg
ORGANIZER;CN="Jamaican Association of Northern Alberta":MAILTO:info@jamaicaassociation.com
END:VEVENT
BEGIN:VEVENT
DTSTART;VALUE=DATE:20250707
DTEND;VALUE=DATE:20250712
DTSTAMP:20260420T115017
CREATED:20250308T230214Z
LAST-MODIFIED:20250308T230214Z
UID:103404-1751846400-1752278399@www.jana.6axism.ca
SUMMARY:Summer Camp 2025
DESCRIPTION:Summer Camp 2025\nLocation: Camp Location TBA\nAddress: 18150 127 St\, Edmonton\, AB T6V 0N3\nWeb: Jamaicanassociation.com
URL:https://www.jana.6axism.ca/event/summer-camp-2025/
LOCATION:Northlands Grounds\, 7515 118 Ave NW\, Edmonton\, AB\, T5B 0J2\, Canada
CATEGORIES:Camp,Social Event,Sporting Event
ATTACH;FMTTYPE=image/jpeg:https://www.jana.6axism.ca/wp-content/uploads/2024/03/jana-hero-img-28.jpg
ORGANIZER;CN="Jamaican Association of Northern Alberta":MAILTO:info@jamaicaassociation.com
END:VEVENT
BEGIN:VEVENT
DTSTART;TZID=America/Edmonton:20250615T080000
DTEND;TZID=America/Edmonton:20250615T170000
DTSTAMP:20260420T115017
CREATED:20250308T223123Z
LAST-MODIFIED:20250309T185651Z
UID:103393-1749974400-1750006800@www.jana.6axism.ca
SUMMARY:Father’s Day Brunch 2025
DESCRIPTION:Father’s Day Brunch 2025\nLocation: JANA HQ\nTime: 8:00 am – 5:00 pm\nAddress: 18150 127 St\, Edmonton\, AB T6V 0N3
URL:https://www.jana.6axism.ca/event/fathers-day-brunch-2025/
LOCATION:JANA Centre\, 18150 127 St NW\, Edmonton\, AB\, T6V 1B1\, Canada
CATEGORIES:Fathers Day,Social Event
ATTACH;FMTTYPE=image/jpeg:https://www.jana.6axism.ca/wp-content/uploads/2024/03/jana-hero-img-28.jpg
ORGANIZER;CN="Jamaican Association of Northern Alberta":MAILTO:info@jamaicaassociation.com
END:VEVENT
BEGIN:VEVENT
DTSTART;TZID=America/Edmonton:20250511T080000
DTEND;TZID=America/Edmonton:20250511T170000
DTSTAMP:20260420T115017
CREATED:20250308T214130Z
LAST-MODIFIED:20250316T152108Z
UID:103383-1746950400-1746982800@www.jana.6axism.ca
SUMMARY:Mother’s Day Brunch 2025
DESCRIPTION:Mother’s Day Brunch 2025\nFlyer: Click image to view flyer\nLocation: JANA HQ\nAddress: 18150 127 St\, Edmonton\, AB T6V 0N3\nTickets: Click Here
URL:https://www.jana.6axism.ca/event/mothers-day-brunch-2025/
LOCATION:JANA Headquarters\, 10420 103 Ave NW\, Edmonton\, AB\, T5L 0J1\, Canada
CATEGORIES:Social Event
ATTACH;FMTTYPE=image/jpeg:https://www.jana.6axism.ca/wp-content/uploads/2025/03/jana-hero-img-44.jpg
ORGANIZER;CN="Jamaican Association of Northern Alberta":MAILTO:info@jamaicaassociation.com
END:VEVENT
BEGIN:VEVENT
DTSTART;TZID=America/Edmonton:20250418T080000
DTEND;TZID=America/Edmonton:20250418T170000
DTSTAMP:20260420T115017
CREATED:20250308T211845Z
LAST-MODIFIED:20250316T153451Z
UID:103381-1744963200-1744995600@www.jana.6axism.ca
SUMMARY:Good Friday - Fish Fry
DESCRIPTION:Good Friday – Fish Fry\nFlyer: Click image to view flyer\nLocation: JANA HQ\nAddress: 18150 127 St\, Edmonton\, AB T6V 0N3\nTickets: Click Here
URL:https://www.jana.6axism.ca/event/good-friday-fish-fry/
LOCATION:JANA Headquarters\, 10420 103 Ave NW\, Edmonton\, AB\, T5L 0J1\, Canada
CATEGORIES:Social Event
ATTACH;FMTTYPE=image/jpeg:https://www.jana.6axism.ca/wp-content/uploads/2025/03/jana-hero-img-45.jpg
ORGANIZER;CN="Jamaican Association of Northern Alberta":MAILTO:info@jamaicaassociation.com
END:VEVENT
BEGIN:VEVENT
DTSTART;VALUE=DATE:20240928
DTEND;VALUE=DATE:20240929
DTSTAMP:20260420T115017
CREATED:20240303T053929Z
LAST-MODIFIED:20240303T053929Z
UID:102574-1727481600-1727567999@www.jana.6axism.ca
SUMMARY:End of Summer Event
DESCRIPTION:
URL:https://www.jana.6axism.ca/event/end-of-summer-event/
LOCATION:JANA Centre\, 18150 127 St NW\, Edmonton\, AB\, T6V 1B1\, Canada
CATEGORIES:Social Event
ATTACH;FMTTYPE=image/jpeg:https://www.jana.6axism.ca/wp-content/uploads/2024/03/jana-hero-img-29.jpg
ORGANIZER;CN="Jamaican Association of Northern Alberta":MAILTO:info@jamaicaassociation.com
END:VEVENT
BEGIN:VEVENT
DTSTART;VALUE=DATE:20240907
DTEND;VALUE=DATE:20240908
DTSTAMP:20260420T115017
CREATED:20240303T053108Z
LAST-MODIFIED:20240303T053108Z
UID:102570-1725667200-1725753599@www.jana.6axism.ca
SUMMARY:Volunteer Appreciation
DESCRIPTION:September 7\, 2024\nVolunteer Appreciation\nJANA Centre\nAddress:18150 127 St NW\, Edmonton\, AB CA T6V 1B1
URL:https://www.jana.6axism.ca/event/volunteer-appreciation/
LOCATION:JANA Centre\, 18150 127 St NW\, Edmonton\, AB\, T6V 1B1\, Canada
CATEGORIES:Centre,Social Event
ATTACH;FMTTYPE=image/jpeg:https://www.jana.6axism.ca/wp-content/uploads/2024/03/jana-hero-img-28.jpg
ORGANIZER;CN="Jamaican Association of Northern Alberta":MAILTO:info@jamaicaassociation.com
END:VEVENT
BEGIN:VEVENT
DTSTART;VALUE=DATE:20240824
DTEND;VALUE=DATE:20240825
DTSTAMP:20260420T115017
CREATED:20240303T052651Z
LAST-MODIFIED:20240303T052651Z
UID:102568-1724457600-1724543999@www.jana.6axism.ca
SUMMARY:Independence Celebrations
DESCRIPTION:August 24\, 2024\nIndependence Celebrations\nTBA\nAddress:TBA
URL:https://www.jana.6axism.ca/event/independence-celebrations/
LOCATION:AB
CATEGORIES:Social Event
ATTACH;FMTTYPE=image/jpeg:https://www.jana.6axism.ca/wp-content/uploads/2024/03/jana-hero-img-29.jpg
ORGANIZER;CN="Jamaican Association of Northern Alberta":MAILTO:info@jamaicaassociation.com
END:VEVENT
BEGIN:VEVENT
DTSTART;VALUE=DATE:20240803
DTEND;VALUE=DATE:20240806
DTSTAMP:20260420T115017
CREATED:20240303T052008Z
LAST-MODIFIED:20240303T052008Z
UID:102565-1722643200-1722902399@www.jana.6axism.ca
SUMMARY:Heritage Festival
DESCRIPTION:June 16\, 2024\nHeritage Festival\nNorthlands Grounds\nAddress:7515 118 Ave NW\, Edmonton\, AB T5B 0J2
URL:https://www.jana.6axism.ca/event/heritage-festival/
LOCATION:Northlands Grounds\, 7515 118 Ave NW\, Edmonton\, AB\, T5B 0J2\, Canada
CATEGORIES:Social Event
ATTACH;FMTTYPE=image/jpeg:https://www.jana.6axism.ca/wp-content/uploads/2024/03/jana-hero-img-32.jpg
ORGANIZER;CN="Jamaican Association of Northern Alberta":MAILTO:info@jamaicaassociation.com
END:VEVENT
BEGIN:VEVENT
DTSTART;VALUE=DATE:20240713
DTEND;VALUE=DATE:20240714
DTSTAMP:20260420T115017
CREATED:20240303T051306Z
LAST-MODIFIED:20240303T051306Z
UID:102563-1720828800-1720915199@www.jana.6axism.ca
SUMMARY:Caribbean Fair
DESCRIPTION:July 13\, 2024\nCaribbean Fair\nJANA Centre\nAddress:18150 127 St NW\, Edmonton\, AB CA T6V 1B1
URL:https://www.jana.6axism.ca/event/caribbean-fair/
LOCATION:JANA Centre\, 18150 127 St NW\, Edmonton\, AB\, T6V 1B1\, Canada
CATEGORIES:Centre,Social Event
ATTACH;FMTTYPE=image/jpeg:https://www.jana.6axism.ca/wp-content/uploads/2024/03/jana-hero-img-28.jpg
ORGANIZER;CN="Jamaican Association of Northern Alberta":MAILTO:info@jamaicaassociation.com
END:VEVENT
BEGIN:VEVENT
DTSTART;VALUE=DATE:20240622
DTEND;VALUE=DATE:20240623
DTSTAMP:20260420T115017
CREATED:20240302T181405Z
LAST-MODIFIED:20240302T183332Z
UID:102558-1719014400-1719100799@www.jana.6axism.ca
SUMMARY:JANA Golf Tournament
DESCRIPTION:June 22\, 2024\nGolf Tournament\nCattail Golf Course\nAddress:24427 Township Rd 542\, Edmonton\, AB CA T8T 1L4
URL:https://www.jana.6axism.ca/event/jana-golf-tournament/
LOCATION:Cattail Golf Course\, 24427 Township Rd 542\, Edmonton\, AB\, T8T 1L4\, Canada
CATEGORIES:Networking,Social Event
ATTACH;FMTTYPE=image/jpeg:https://www.jana.6axism.ca/wp-content/uploads/2024/03/jana-hero-img-32.jpg
ORGANIZER;CN="Jamaican Association of Northern Alberta":MAILTO:info@jamaicaassociation.com
END:VEVENT
BEGIN:VEVENT
DTSTART;TZID=America/Edmonton:20240608T090000
DTEND;TZID=America/Edmonton:20240608T160000
DTSTAMP:20260420T115017
CREATED:20240302T170408Z
LAST-MODIFIED:20240302T170408Z
UID:102553-1717837200-1717862400@www.jana.6axism.ca
SUMMARY:Walk-A-Thon
DESCRIPTION:June 8\, 2024\nWalk-A-Thon\nJANA Centre\nAddress:18150 127 St NW\, Edmonton\, AB T6V 1B1
URL:https://www.jana.6axism.ca/event/walk-a-thon/
LOCATION:JANA Centre\, 18150 127 St NW\, Edmonton\, AB\, T6V 1B1\, Canada
CATEGORIES:Centre,Social Event
ATTACH;FMTTYPE=image/jpeg:https://www.jana.6axism.ca/wp-content/uploads/2024/03/jana-hero-img-28.jpg
ORGANIZER;CN="Jamaican Association of Northern Alberta":MAILTO:info@jamaicaassociation.com
END:VEVENT
BEGIN:VEVENT
DTSTART;TZID=America/Edmonton:20240512T110000
DTEND;TZID=America/Edmonton:20240512T140000
DTSTAMP:20260420T115017
CREATED:20240302T002812Z
LAST-MODIFIED:20240302T002812Z
UID:102550-1715511600-1715522400@www.jana.6axism.ca
SUMMARY:Mother's Day Brunch
DESCRIPTION:May 12\, 2024\nMother’s Day Brunch\nTBA\nAddress:TBA
URL:https://www.jana.6axism.ca/event/mothers-day-brunch/
LOCATION:AB
CATEGORIES:Social Event
ATTACH;FMTTYPE=image/jpeg:https://www.jana.6axism.ca/wp-content/uploads/2024/03/jana-hero-img-29.jpg
ORGANIZER;CN="Jamaican Association of Northern Alberta":MAILTO:info@jamaicaassociation.com
END:VEVENT
BEGIN:VEVENT
DTSTART;TZID=America/Edmonton:20240203T080000
DTEND;TZID=America/Edmonton:20240203T110000
DTSTAMP:20260420T115017
CREATED:20240302T000356Z
LAST-MODIFIED:20240302T000356Z
UID:102543-1706947200-1706958000@www.jana.6axism.ca
SUMMARY:Black History Month Breakfast
DESCRIPTION:February 3\, 2024\nBlack History Month Breakfast\nGlengarry Community League\nAddress:13325 89 St NW\, Edmonton\, AB T5E 3K3
URL:https://www.jana.6axism.ca/event/black-history-month-breakfast/
LOCATION:Glengarry Community League\, 13325 89 St NW\, Edmonton\, AB\, T5E 3K3\, Canada
CATEGORIES:Social Event
ATTACH;FMTTYPE=image/jpeg:https://www.jana.6axism.ca/wp-content/uploads/2024/03/jana-hero-img-29.jpg
END:VEVENT
END:VCALENDAR